BEGIN:VCALENDAR
VERSION:2.0
PRODID:-//Plone.org//NONSGML plone.app.event//EN
X-WR-TIMEZONE:Europe/Madrid
BEGIN:VEVENT
SUMMARY:Cicle de xerrades sobre l'holística de l'ésser humà: cos, ment i esperit
DTSTART;TZID=Europe/Madrid;VALUE=DATE-TIME:20101210T190000
DTEND;TZID=Europe/Madrid;VALUE=DATE-TIME:20101210T200000
DTSTAMP;VALUE=DATE-TIME:20260421T212101Z
UID:d30c178fa6c7c75f17ca2dbc40f27395
CREATED;VALUE=DATE-TIME:20101210T000000Z
CATEGORIES:Conferència,Agenda cultural
LOCATION:Centre Cívic El Gorg - Riera del Gorg, s/n
ORGANIZER:Biblioteca Municipal La Muntala
COMMENT:Preu: Gratuït
DESCRIPTION:3a xerrada sobre posturologia, a càrrec d'Annabel Gómez i Marina Arranz
URL:https://www.svmontalt.cat/document.php?id=4510
END:VEVENT
END:VCALENDAR