BEGIN:VCALENDAR
VERSION:2.0
PRODID:-//Plone.org//NONSGML plone.app.event//EN
X-WR-TIMEZONE:Europe/Madrid
BEGIN:VEVENT
SUMMARY:Cicle de xerrades sobre l'holística de l'ésser humà: cos, ment i esperit
DTSTART;TZID=Europe/Madrid;VALUE=DATE-TIME:20110311T190000
DTEND;TZID=Europe/Madrid;VALUE=DATE-TIME:20110311T200000
DTSTAMP;VALUE=DATE-TIME:20260420T023756Z
UID:1175bb1a287c6eae0239d4270e7e08cf
CREATED;VALUE=DATE-TIME:20110311T000000Z
CATEGORIES:Conferència,Agenda cultural
LOCATION:Centre Cívic El Gorg - Riera del Gorg, s/n
ORGANIZER:Biblioteca Municipal La Muntala
COMMENT:Preu: Gratuït
DESCRIPTION:6a xerrada sobre cromoteràpia i la influència dels colors en les emocions, a càrrec d'Eva Arranz
URL:https://www.svmontalt.cat/document.php?id=4513
END:VEVENT
END:VCALENDAR