BEGIN:VCALENDAR
VERSION:2.0
PRODID:-//Plone.org//NONSGML plone.app.event//EN
X-WR-TIMEZONE:Europe/Madrid
BEGIN:VEVENT
SUMMARY:Concert familiar de Sant Cecília
DTSTART;TZID=Europe/Madrid;VALUE=DATE-TIME:20101125T180000
DTEND;TZID=Europe/Madrid;VALUE=DATE-TIME:20101125T190000
DTSTAMP;VALUE=DATE-TIME:20260420T110519Z
UID:5adec005a42cefa27f2d6134977bdd58
CREATED;VALUE=DATE-TIME:20101125T000000Z
CATEGORIES:Música,Agenda cultural
LOCATION:Gimnàs de l'escola Sant Jordi
ORGANIZER:Escola Municipal de Músical L'Oriola
COMMENT:Preu: Gratuït
DESCRIPTION:A càrrec de Ministrers dels Sabre
URL:https://www.svmontalt.cat/document.php?id=4523
END:VEVENT
END:VCALENDAR