BEGIN:VCALENDAR
VERSION:2.0
PRODID:-//Plone.org//NONSGML plone.app.event//EN
X-WR-TIMEZONE:Europe/Madrid
BEGIN:VEVENT
SUMMARY:Taller de percussió
DTSTART;TZID=Europe/Madrid;VALUE=DATE-TIME:20101117T191500
DTEND;TZID=Europe/Madrid;VALUE=DATE-TIME:20101117T201500
DTSTAMP;VALUE=DATE-TIME:20260420T110623Z
UID:7b0ec4f21be97338b552c0a52c9ecc73
CREATED;VALUE=DATE-TIME:20101117T000000Z
CATEGORIES:Música,Agenda cultural
LOCATION:Escola Municipal de Música L'Oriola
ORGANIZER:Escola Municipal de Músical L'Oriola
COMMENT:Preu: 15 euros/mes
URL:https://www.svmontalt.cat/document.php?id=4524
END:VEVENT
END:VCALENDAR