BEGIN:VCALENDAR
VERSION:2.0
PRODID:-//Plone.org//NONSGML plone.app.event//EN
X-WR-TIMEZONE:Europe/Madrid
BEGIN:VEVENT
SUMMARY:Taller de percussió
DTSTART;TZID=Europe/Madrid;VALUE=DATE-TIME:20101201T191500
DTEND;TZID=Europe/Madrid;VALUE=DATE-TIME:20101201T201500
DTSTAMP;VALUE=DATE-TIME:20260420T123507Z
UID:fd625757bd9158b74bf9b6e871f44fae
CREATED;VALUE=DATE-TIME:20101201T000000Z
CATEGORIES:Música,Agenda cultural
LOCATION:Escola Municipal de Música L'Oriola
ORGANIZER:Escola Municipal de Músical L'Oriola
COMMENT:Preu: 15 euros/mes
URL:https://www.svmontalt.cat/document.php?id=4526
END:VEVENT
END:VCALENDAR