BEGIN:VCALENDAR
VERSION:2.0
PRODID:-//Plone.org//NONSGML plone.app.event//EN
X-WR-TIMEZONE:Europe/Madrid
BEGIN:VEVENT
SUMMARY:Taller de percussió
DTSTART;TZID=Europe/Madrid;VALUE=DATE-TIME:20101222T191500
DTEND;TZID=Europe/Madrid;VALUE=DATE-TIME:20101222T201500
DTSTAMP;VALUE=DATE-TIME:20260420T110400Z
UID:c33b0ee1bdc26ad8a0e98561a8b245e9
CREATED;VALUE=DATE-TIME:20101222T000000Z
CATEGORIES:Música,Agenda cultural
LOCATION:Escola Municipal de Música L'Oriola
ORGANIZER:Escola Municipal de Músical L'Oriola
COMMENT:Preu: 15 euros/mes
URL:https://www.svmontalt.cat/document.php?id=4528
END:VEVENT
END:VCALENDAR