BEGIN:VCALENDAR
VERSION:2.0
PRODID:-//Plone.org//NONSGML plone.app.event//EN
X-WR-TIMEZONE:Europe/Madrid
BEGIN:VEVENT
SUMMARY:Xerrada pediàtrica sobre fisioteràpia respiratòria i odontologia infantil
DTSTART;TZID=Europe/Madrid;VALUE=DATE-TIME:20101213T200000
DTEND;TZID=Europe/Madrid;VALUE=DATE-TIME:20101213T210000
DTSTAMP;VALUE=DATE-TIME:20260424T091300Z
UID:9b3bcd4d50ddd3d4431663bd757a9450
CREATED;VALUE=DATE-TIME:20101213T000000Z
CATEGORIES:Conferència,Agenda cultural
LOCATION:Centre Cívic El Gorg - Riera del Gorg, s/n
ORGANIZER:AMPA de l'Escola Bressol Municipal Els Garrofers
COMMENT:Preu: Gratuïta
DESCRIPTION:A càrrec del Centre Pediàtric ARC de Vilassar de Mar
URL:https://www.svmontalt.cat/document.php?id=4530
END:VEVENT
END:VCALENDAR