BEGIN:VCALENDAR
VERSION:2.0
PRODID:-//Plone.org//NONSGML plone.app.event//EN
X-WR-TIMEZONE:Europe/Madrid
BEGIN:VEVENT
SUMMARY:Audicions musicals a L'Oriola
DTSTART;TZID=Europe/Madrid;VALUE=DATE-TIME:20101220T173000
DTEND;TZID=Europe/Madrid;VALUE=DATE-TIME:20101220T183000
DTSTAMP;VALUE=DATE-TIME:20260420T111550Z
UID:a18caf872b6cb04dd5e430a39d108a7a
CREATED;VALUE=DATE-TIME:20101220T000000Z
CATEGORIES:Música,Agenda cultural
LOCATION:CEIP Sant Jordi - C/ Escoles, 10
ORGANIZER:Escola Municipal de Músical L'Oriola
COMMENT:Preu: Gratuït
Durada: Dies 15, 17, 20 i 21 de desembre
DESCRIPTION:Dies 15, 17, 20 i 21 de desembre
URL:https://www.svmontalt.cat/document.php?id=4559
END:VEVENT
END:VCALENDAR