BEGIN:VCALENDAR
VERSION:2.0
PRODID:-//Plone.org//NONSGML plone.app.event//EN
X-WR-TIMEZONE:Europe/Madrid
BEGIN:VEVENT
SUMMARY:Concert de Nadal de L'Oriola
DTSTART;TZID=Europe/Madrid;VALUE=DATE-TIME:20101218T173000
DTEND;TZID=Europe/Madrid;VALUE=DATE-TIME:20101218T183000
DTSTAMP;VALUE=DATE-TIME:20260420T110349Z
UID:5a153dfb3d754d289779affa1b97d007
CREATED;VALUE=DATE-TIME:20101218T000000Z
CATEGORIES:Música,Agenda cultural
LOCATION:Centre Cívic El Gorg - Riera del Gorg, s/n
ORGANIZER:Escola Municipal de Músical L'Oriola
COMMENT:Preu: Gratuït
URL:https://www.svmontalt.cat/document.php?id=4563
END:VEVENT
END:VCALENDAR