BEGIN:VCALENDAR
VERSION:2.0
PRODID:-//Plone.org//NONSGML plone.app.event//EN
X-WR-TIMEZONE:Europe/Madrid
BEGIN:VEVENT
SUMMARY:Concert de l'Aula de cant de L'Oriola
DTSTART;TZID=Europe/Madrid;VALUE=DATE-TIME:20101220T190000
DTEND;TZID=Europe/Madrid;VALUE=DATE-TIME:20101220T200000
DTSTAMP;VALUE=DATE-TIME:20260420T110450Z
UID:0efaacdc3c2b01db8b8aa7982d2e224f
CREATED;VALUE=DATE-TIME:20101220T000000Z
CATEGORIES:Música,Agenda cultural
LOCATION:CEIP Sant Jordi - C/ Escoles, 10
ORGANIZER:Escola Municipal de Músical L'Oriola
COMMENT:Preu: Gratuït
DESCRIPTION:A càrrec dels alumnes de cant de L'Escola Municipal de Música
URL:https://www.svmontalt.cat/document.php?id=4568
END:VEVENT
END:VCALENDAR