BEGIN:VCALENDAR
VERSION:2.0
PRODID:-//Plone.org//NONSGML plone.app.event//EN
X-WR-TIMEZONE:Europe/Madrid
BEGIN:VEVENT
SUMMARY:Missa del gall
DTSTART;TZID=Europe/Madrid;VALUE=DATE-TIME:20101224T235000
DTEND;TZID=Europe/Madrid;VALUE=DATE-TIME:20101225T005000
DTSTAMP;VALUE=DATE-TIME:20260420T165554Z
UID:4c2f8ba43779e25adc48f9b87f45699d
CREATED;VALUE=DATE-TIME:20101224T000000Z
LOCATION:Església de Sant Vicenç - Plaça de l'Esglèsia, s/n
ORGANIZER:Parròquia de Sant Vicenç amb la col·laboració de L'Orfeó Parroquial El Delme
DESCRIPTION:Amb la participació de l´Orfeó Parroquial El Delme
URL:https://www.svmontalt.cat/document.php?id=4570
END:VEVENT
END:VCALENDAR