BEGIN:VCALENDAR
VERSION:2.0
PRODID:-//Plone.org//NONSGML plone.app.event//EN
X-WR-TIMEZONE:Europe/Madrid
BEGIN:VEVENT
SUMMARY:Partit de futbol de superveterans
DTSTART;TZID=Europe/Madrid;VALUE=DATE-TIME:20101226T110000
DTEND;TZID=Europe/Madrid;VALUE=DATE-TIME:20101226T120000
DTSTAMP;VALUE=DATE-TIME:20260420T165754Z
UID:ae30f93dcb87bb0c99e5e41a3d8de733
CREATED;VALUE=DATE-TIME:20101226T000000Z
CATEGORIES:Esports
LOCATION:Camp Municipal de Futbol - Avinguda Toni Sors, s/n
ORGANIZER:Manel Caldeira
COMMENT:Preu: Gratuït
URL:https://www.svmontalt.cat/document.php?id=4572
END:VEVENT
END:VCALENDAR