BEGIN:VCALENDAR
VERSION:2.0
PRODID:-//Plone.org//NONSGML plone.app.event//EN
X-WR-TIMEZONE:Europe/Madrid
BEGIN:VEVENT
SUMMARY:Concert de Sant Esteve
DTSTART;TZID=Europe/Madrid;VALUE=DATE-TIME:20110102T190000
DTEND;TZID=Europe/Madrid;VALUE=DATE-TIME:20110102T200000
DTSTAMP;VALUE=DATE-TIME:20260420T123555Z
UID:264ad2fa52075bbcc8178c783de165a0
CREATED;VALUE=DATE-TIME:20110102T000000Z
CATEGORIES:Música,Agenda cultural
LOCATION:Església de Sant Vicenç - Plaça de l'Esglèsia, s/n
ORGANIZER:Orfeó Parroquial El Delme amb la col·laboració de la parròquia de Sant Vicenç
DESCRIPTION:A càrrec de l´Orfeó Parroquial El Delme
URL:https://www.svmontalt.cat/document.php?id=4573
END:VEVENT
END:VCALENDAR