BEGIN:VCALENDAR
VERSION:2.0
PRODID:-//Plone.org//NONSGML plone.app.event//EN
X-WR-TIMEZONE:Europe/Madrid
BEGIN:VEVENT
SUMMARY:Sopar-revetlla de Cap d'Any
DTSTART;TZID=Europe/Madrid;VALUE=DATE-TIME:20101231T213000
DTEND;TZID=Europe/Madrid;VALUE=DATE-TIME:20101231T223000
DTSTAMP;VALUE=DATE-TIME:20260420T165836Z
UID:5d082a437647c2d8e063253a63a7f9a3
CREATED;VALUE=DATE-TIME:20101231T000000Z
CATEGORIES:Festa,Agenda cultural
LOCATION:Pista annexa al Pavelló Municipal Toni Sors - Avinguda Toni Sors, s/n
ORGANIZER:Regidoria de Culltura
COMMENT:Preu: Tiquet sopar: 30 euros. També hi haurà l´opció de comprar per 10 euros un tiquet que donarà dret a raïm, cava, pastes i cotilló
DESCRIPTION:Fi de festa amb el grup "D'altra Banda"
URL:https://www.svmontalt.cat/document.php?id=4574
END:VEVENT
END:VCALENDAR