BEGIN:VCALENDAR
VERSION:2.0
PRODID:-//Plone.org//NONSGML plone.app.event//EN
X-WR-TIMEZONE:Europe/Madrid
BEGIN:VEVENT
SUMMARY:Visita dels patges reials
DTSTART;TZID=Europe/Madrid;VALUE=DATE-TIME:20110101T180000
DTEND;TZID=Europe/Madrid;VALUE=DATE-TIME:20110101T190000
DTSTAMP;VALUE=DATE-TIME:20260420T135806Z
UID:367a89f330e735f9b56770ad772e7477
CREATED;VALUE=DATE-TIME:20110101T000000Z
CATEGORIES:Infantils
LOCATION:Local veïnal del c/ Mediterrani
ORGANIZER:Regidoria de Culltura
COMMENT:Preu: Gratuït
Durada: De 18 a 20h
URL:https://www.svmontalt.cat/document.php?id=4575
END:VEVENT
END:VCALENDAR