BEGIN:VCALENDAR
VERSION:2.0
PRODID:-//Plone.org//NONSGML plone.app.event//EN
X-WR-TIMEZONE:Europe/Madrid
BEGIN:VEVENT
SUMMARY:Campanya de Donació de Sang
DTSTART;TZID=Europe/Madrid;VALUE=DATE-TIME:20051113T100000
DTEND;TZID=Europe/Madrid;VALUE=DATE-TIME:20051113T110000
DTSTAMP;VALUE=DATE-TIME:20260425T231512Z
UID:2442c9143da73cd5a9b0e63df57f13bc
CREATED;VALUE=DATE-TIME:20051113T000000Z
LOCATION:Ajuntament de Sant Vicenç de Montalt, 1er. Pis
ORGANIZER:Banc de Sang de l'Hospital de la Creu Roja amb la col·laboració de l'Ajuntament de Sant Vicenç de Montalt
URL:https://www.svmontalt.cat/document.php?id=458
END:VEVENT
END:VCALENDAR