BEGIN:VCALENDAR
VERSION:2.0
PRODID:-//Plone.org//NONSGML plone.app.event//EN
X-WR-TIMEZONE:Europe/Madrid
BEGIN:VEVENT
SUMMARY:Sardanes i ball amb l´Orquestra Maravella
DTSTART;TZID=Europe/Madrid;VALUE=DATE-TIME:20110121T223000
DTEND;TZID=Europe/Madrid;VALUE=DATE-TIME:20110121T233000
DTSTAMP;VALUE=DATE-TIME:20260420T044804Z
UID:a26d3dca30941d751443525624671597
CREATED;VALUE=DATE-TIME:20110121T000000Z
CATEGORIES:Música,Agenda cultural
LOCATION:Pista annexa al Pavelló Municipal Toni Sors - Avinguda Toni Sors, s/n
ORGANIZER:Regidoria de Culltura
COMMENT:Preu: Gratuït- Reserva de taula: 10 euros (de 9 a 13h a l'Ajuntament)
URL:https://www.svmontalt.cat/document.php?id=4641
END:VEVENT
END:VCALENDAR