BEGIN:VCALENDAR
VERSION:2.0
PRODID:-//Plone.org//NONSGML plone.app.event//EN
X-WR-TIMEZONE:Europe/Madrid
BEGIN:VEVENT
SUMMARY:Sardanes i vermut popular
DTSTART;TZID=Europe/Madrid;VALUE=DATE-TIME:20110122T120000
DTEND;TZID=Europe/Madrid;VALUE=DATE-TIME:20110122T130000
DTSTAMP;VALUE=DATE-TIME:20260425T211745Z
UID:aab06693d246cd40e34c6f413b7a393d
CREATED;VALUE=DATE-TIME:20110122T000000Z
CATEGORIES:Festa,Agenda cultural
LOCATION:Plaça del Poble - Plaça del Poble
ORGANIZER:Regidoria de Culltura
COMMENT:Preu: Gratuït
URL:https://www.svmontalt.cat/document.php?id=4645
END:VEVENT
END:VCALENDAR