BEGIN:VCALENDAR
VERSION:2.0
PRODID:-//Plone.org//NONSGML plone.app.event//EN
X-WR-TIMEZONE:Europe/Madrid
BEGIN:VEVENT
SUMMARY:Vesprada teatral amb l'obra "L'estiuet del senyor Martí"
DTSTART;TZID=Europe/Madrid;VALUE=DATE-TIME:20110206T180000
DTEND;TZID=Europe/Madrid;VALUE=DATE-TIME:20110206T190000
DTSTAMP;VALUE=DATE-TIME:20260420T210533Z
UID:5cff9c2544c49ae33cb415ff230de2a9
CREATED;VALUE=DATE-TIME:20110206T000000Z
CATEGORIES:Teatre,Agenda cultural
LOCATION:Centre Cívic El Gorg - Riera del Gorg, s/n
ORGANIZER:Agrupació Teatral Emled
COMMENT:Preu: 5 euros
URL:https://www.svmontalt.cat/document.php?id=4664
END:VEVENT
END:VCALENDAR