BEGIN:VCALENDAR
VERSION:2.0
PRODID:-//Plone.org//NONSGML plone.app.event//EN
X-WR-TIMEZONE:Europe/Madrid
BEGIN:VEVENT
SUMMARY:Round table en català
DTSTART;TZID=Europe/Madrid;VALUE=DATE-TIME:20110401T190000
DTEND;TZID=Europe/Madrid;VALUE=DATE-TIME:20110401T200000
DTSTAMP;VALUE=DATE-TIME:20260422T084940Z
UID:8f0456ed9b8c023c3f6ed186d96d8a96
CREATED;VALUE=DATE-TIME:20110401T000000Z
LOCATION:Centre Cívic El Gorg - Riera del Gorg, s/n
ORGANIZER:Biblioteca Municipal La Muntala
COMMENT:Preu: Gratuït
DESCRIPTION:A càrrec de Montse Macanàs, Pius Morera i Salvador Picas
URL:https://www.svmontalt.cat/document.php?id=4669
END:VEVENT
END:VCALENDAR