BEGIN:VCALENDAR
VERSION:2.0
PRODID:-//Plone.org//NONSGML plone.app.event//EN
X-WR-TIMEZONE:Europe/Madrid
BEGIN:VEVENT
SUMMARY:Round table en francès
DTSTART;TZID=Europe/Madrid;VALUE=DATE-TIME:20110617T190000
DTEND;TZID=Europe/Madrid;VALUE=DATE-TIME:20110617T200000
DTSTAMP;VALUE=DATE-TIME:20260422T084656Z
UID:e8ddd22f4c222bb678be22832717af67
CREATED;VALUE=DATE-TIME:20110617T000000Z
LOCATION:Centre Cívic El Gorg - Riera del Gorg, s/n
ORGANIZER:Biblioteca Municipal La Muntala
COMMENT:Preu: Gratuït
DESCRIPTION:A càrrec de Corinne de Bailliencourt
URL:https://www.svmontalt.cat/document.php?id=4675
END:VEVENT
END:VCALENDAR