BEGIN:VCALENDAR
VERSION:2.0
PRODID:-//Plone.org//NONSGML plone.app.event//EN
X-WR-TIMEZONE:Europe/Madrid
BEGIN:VEVENT
SUMMARY:La cuina de Sant Vicenç
DTSTART;TZID=Europe/Madrid;VALUE=DATE-TIME:20110216T180000
DTEND;TZID=Europe/Madrid;VALUE=DATE-TIME:20110216T190000
DTSTAMP;VALUE=DATE-TIME:20260419T175338Z
UID:1b05d124e82c7b2a4c10b60b5a5ff199
CREATED;VALUE=DATE-TIME:20110216T000000Z
CATEGORIES:Mostra,Agenda cultural
LOCATION:Casal de la Gent Gran Els Xurravins - Riera del Gorg, s/n
ORGANIZER:Associació de Gent Gran Els Xurravins
COMMENT:Preu: Gratuït
URL:https://www.svmontalt.cat/document.php?id=4728
END:VEVENT
END:VCALENDAR