BEGIN:VCALENDAR
VERSION:2.0
PRODID:-//Plone.org//NONSGML plone.app.event//EN
X-WR-TIMEZONE:Europe/Madrid
BEGIN:VEVENT
SUMMARY:Reunió informativa: Casal de natura
DTSTART;TZID=Europe/Madrid;VALUE=DATE-TIME:20110224T173000
DTEND;TZID=Europe/Madrid;VALUE=DATE-TIME:20110224T183000
DTSTAMP;VALUE=DATE-TIME:20260426T031829Z
UID:7062412f8bcb95e1bfcd79b24578f31e
CREATED;VALUE=DATE-TIME:20110224T000000Z
LOCATION:CEIP Sant Jordi - C/ Escoles, 10
ORGANIZER:AMPA Escola Sant Jordi i MontalTrek
URL:https://www.svmontalt.cat/document.php?id=4731
END:VEVENT
END:VCALENDAR