BEGIN:VCALENDAR
VERSION:2.0
PRODID:-//Plone.org//NONSGML plone.app.event//EN
X-WR-TIMEZONE:Europe/Madrid
BEGIN:VEVENT
SUMMARY:Classe gratuïta de puntes de coixí
DTSTART;TZID=Europe/Madrid;VALUE=DATE-TIME:20110302T173000
DTEND;TZID=Europe/Madrid;VALUE=DATE-TIME:20110302T183000
DTSTAMP;VALUE=DATE-TIME:20260421T215255Z
UID:526d9bc37bed4175bbeaed4c2dc7e90d
CREATED;VALUE=DATE-TIME:20110302T000000Z
CATEGORIES:Cursos,Agenda cultural
LOCATION:Centre Cívic El Gorg - Riera del Gorg, s/n
ORGANIZER:Associació de Puntaires
COMMENT:Preu: Gratuït
Durada: De 17.30 a 20h
DESCRIPTION:Sant Vicenç DONA
URL:https://www.svmontalt.cat/document.php?id=4772
END:VEVENT
END:VCALENDAR