BEGIN:VCALENDAR
VERSION:2.0
PRODID:-//Plone.org//NONSGML plone.app.event//EN
X-WR-TIMEZONE:Europe/Madrid
BEGIN:VEVENT
SUMMARY:La cuina de Sant Vicenç
DTSTART;TZID=Europe/Madrid;VALUE=DATE-TIME:20110302T180000
DTEND;TZID=Europe/Madrid;VALUE=DATE-TIME:20110302T190000
DTSTAMP;VALUE=DATE-TIME:20260426T015205Z
UID:b9f9233f3e9daff1dee13fe126fb43ee
CREATED;VALUE=DATE-TIME:20110302T000000Z
CATEGORIES:Mostra,Agenda cultural
LOCATION:Casal de la Gent Gran Els Xurravins - Riera del Gorg, s/n
ORGANIZER:Associació de Gent Gran Els Xurravins
COMMENT:Preu: Gratuït
DESCRIPTION:Sant Vicenç DONA
URL:https://www.svmontalt.cat/document.php?id=4774
END:VEVENT
END:VCALENDAR