BEGIN:VCALENDAR
VERSION:2.0
PRODID:-//Plone.org//NONSGML plone.app.event//EN
X-WR-TIMEZONE:Europe/Madrid
BEGIN:VEVENT
SUMMARY:Taller de seuxalitat
DTSTART;TZID=Europe/Madrid;VALUE=DATE-TIME:20110304T093000
DTEND;TZID=Europe/Madrid;VALUE=DATE-TIME:20110304T103000
DTSTAMP;VALUE=DATE-TIME:20260421T213639Z
UID:6d0958739635b942795edb566a8a6fff
CREATED;VALUE=DATE-TIME:20110304T000000Z
CATEGORIES:Cursos,Agenda cultural
LOCATION:Espai Jove - Avinguda Verge de Montserrat, 1
ORGANIZER:Regidoria de Joventut amb la col·laboració del Centre d'Atenció a la Dona
COMMENT:Durada: De 9.30 a 11.30h
DESCRIPTION:Sant vicenç DONA
URL:https://www.svmontalt.cat/document.php?id=4780
END:VEVENT
END:VCALENDAR