BEGIN:VCALENDAR
VERSION:2.0
PRODID:-//Plone.org//NONSGML plone.app.event//EN
X-WR-TIMEZONE:Europe/Madrid
BEGIN:VEVENT
SUMMARY:Classe gratuïta de country
DTSTART;TZID=Europe/Madrid;VALUE=DATE-TIME:20110308T203000
DTEND;TZID=Europe/Madrid;VALUE=DATE-TIME:20110308T213000
DTSTAMP;VALUE=DATE-TIME:20260425T191257Z
UID:5ccb3a0372b368bbaf3ffd4134cfc025
CREATED;VALUE=DATE-TIME:20110308T000000Z
CATEGORIES:Cursos,Agenda cultural
LOCATION:Centre Cívic El Gorg - Riera del Gorg, s/n
ORGANIZER:Donactva
COMMENT:Preu: Gratuït
Durada: De 20.30 a 22h
DESCRIPTION:Sant Vicenç DONA
URL:https://www.svmontalt.cat/document.php?id=4789
END:VEVENT
END:VCALENDAR