BEGIN:VCALENDAR
VERSION:2.0
PRODID:-//Plone.org//NONSGML plone.app.event//EN
X-WR-TIMEZONE:Europe/Madrid
BEGIN:VEVENT
SUMMARY:Per Sant Jordi, un llibre, una rosa i ... un ball al Cívic!
DTSTART;TZID=Europe/Madrid;VALUE=DATE-TIME:20110424T180000
DTEND;TZID=Europe/Madrid;VALUE=DATE-TIME:20110424T190000
DTSTAMP;VALUE=DATE-TIME:20260425T174805Z
UID:46d114d2a5121ee410c8a121bc1c9b6c
CREATED;VALUE=DATE-TIME:20110424T000000Z
CATEGORIES:Dansa,Agenda cultural
LOCATION:Centre Cívic El Gorg - Riera del Gorg, s/n 08394 Sant Vicenç de Montalt
ORGANIZER:Regidoria de Cultura
COMMENT:Preu: Gratuït
URL:https://www.svmontalt.cat/document.php?id=5091
END:VEVENT
END:VCALENDAR