BEGIN:VCALENDAR
VERSION:2.0
PRODID:-//Plone.org//NONSGML plone.app.event//EN
X-WR-TIMEZONE:Europe/Madrid
BEGIN:VEVENT
SUMMARY:Presentació de les 1 es Jornades gastronòmiques de la Patata
DTSTART;TZID=Europe/Madrid;VALUE=DATE-TIME:20110428T190000
DTEND;TZID=Europe/Madrid;VALUE=DATE-TIME:20110428T200000
DTSTAMP;VALUE=DATE-TIME:20260419T190802Z
UID:cd8e8d7b0202b3979de726add605d27f
CREATED;VALUE=DATE-TIME:20110428T000000Z
CATEGORIES:Mostra,Agenda cultural
LOCATION:Centre Cívic El Gorg - Riera del Gorg, s/n
ORGANIZER:Regidories de Comerç i Turisme en col·laboració amb els restaurants de la vila
COMMENT:Preu: Gratuït
DESCRIPTION:Amb l'assistència de l'àvia Remei
URL:https://www.svmontalt.cat/document.php?id=5094
END:VEVENT
END:VCALENDAR