BEGIN:VCALENDAR
VERSION:2.0
PRODID:-//Plone.org//NONSGML plone.app.event//EN
X-WR-TIMEZONE:Europe/Madrid
BEGIN:VEVENT
SUMMARY:La Colla de Geganters visita la gent gran
DTSTART;TZID=Europe/Madrid;VALUE=DATE-TIME:20110430T170000
DTEND;TZID=Europe/Madrid;VALUE=DATE-TIME:20110430T180000
DTSTAMP;VALUE=DATE-TIME:20260424T145855Z
UID:63e37e8a1c1dae1994115adaacd23684
CREATED;VALUE=DATE-TIME:20110430T000000Z
LOCATION:Residència Vora Balís
ORGANIZER:Colla de Geganters de Sant Vicenç de Montalt
URL:https://www.svmontalt.cat/document.php?id=5098
END:VEVENT
END:VCALENDAR