BEGIN:VCALENDAR
VERSION:2.0
PRODID:-//Plone.org//NONSGML plone.app.event//EN
X-WR-TIMEZONE:Europe/Madrid
BEGIN:VEVENT
SUMMARY:1es Jornades Gastronòmiques de la Patata
DTSTART;TZID=Europe/Madrid;VALUE=DATE-TIME:20110511T100000
DTEND;TZID=Europe/Madrid;VALUE=DATE-TIME:20110511T110000
DTSTAMP;VALUE=DATE-TIME:20260419T154002Z
UID:e595c6c288a5c9605e8427e43abd5dbf
CREATED;VALUE=DATE-TIME:20110511T000000Z
CATEGORIES:Mostra,Agenda cultural
LOCATION:Bar de la Piscina, Castell de l'Oliver, El Racó del Bugatti, La Zervecería, La Caleta i Restaurante Mexicano "Esto es Mèxico"
ORGANIZER:Regidories de Comerç i Turisme en col·laboració amb els restaurants de la vila
COMMENT:Preu: Segons menú
Durada: Del 28 d'abril al 31 de maig
DESCRIPTION:Del 28 d'abril al 31 de maig
URL:https://www.svmontalt.cat/document.php?id=5163
END:VEVENT
END:VCALENDAR