BEGIN:VCALENDAR
VERSION:2.0
PRODID:-//Plone.org//NONSGML plone.app.event//EN
X-WR-TIMEZONE:Europe/Madrid
BEGIN:VEVENT
SUMMARY:Els geganters visiten Montblanc
DTSTART;TZID=Europe/Madrid;VALUE=DATE-TIME:20110515T090000
DTEND;TZID=Europe/Madrid;VALUE=DATE-TIME:20110515T100000
DTSTAMP;VALUE=DATE-TIME:20260424T135328Z
UID:a8d8d867f2e66e50233ed80f8db7922a
CREATED;VALUE=DATE-TIME:20110515T000000Z
CATEGORIES:Mostra,Agenda cultural
LOCATION:Sortida a la Trobada de gegants de Montblanc
ORGANIZER:Colla de Geganters de Sant Vicenç de Montalt
URL:https://www.svmontalt.cat/document.php?id=5174
END:VEVENT
END:VCALENDAR