BEGIN:VCALENDAR
VERSION:2.0
PRODID:-//Plone.org//NONSGML plone.app.event//EN
X-WR-TIMEZONE:Europe/Madrid
BEGIN:VEVENT
SUMMARY:Diumenge, vine a ballar al Cívic!
DTSTART;TZID=Europe/Madrid;VALUE=DATE-TIME:20110529T180000
DTEND;TZID=Europe/Madrid;VALUE=DATE-TIME:20110529T190000
DTSTAMP;VALUE=DATE-TIME:20260425T191538Z
UID:5c0ff672f1b331c7d83c2a6681230b60
CREATED;VALUE=DATE-TIME:20110529T000000Z
CATEGORIES:Dansa,Agenda cultural
LOCATION:Centre Cívic El Gorg - Riera del Gorg, s/n 08394 Sant Vicenç de Montalt
ORGANIZER:Regidoria de Cultura
COMMENT:Preu: Gratuït
URL:https://www.svmontalt.cat/document.php?id=5178
END:VEVENT
END:VCALENDAR