BEGIN:VCALENDAR
VERSION:2.0
PRODID:-//Plone.org//NONSGML plone.app.event//EN
X-WR-TIMEZONE:Europe/Madrid
BEGIN:VEVENT
SUMMARY:Diumenge, vine a ballar al Cívic!
DTSTART;TZID=Europe/Madrid;VALUE=DATE-TIME:20110626T180000
DTEND;TZID=Europe/Madrid;VALUE=DATE-TIME:20110626T190000
DTSTAMP;VALUE=DATE-TIME:20260425T174750Z
UID:8d404105fc404afc0c90a2b4b49d063f
CREATED;VALUE=DATE-TIME:20110626T000000Z
CATEGORIES:Dansa,Agenda cultural
LOCATION:Centre Cívic El Gorg - Riera del Gorg, s/n
ORGANIZER:Regidoria de Cultura
COMMENT:Preu: Gratuït
URL:https://www.svmontalt.cat/document.php?id=5225
END:VEVENT
END:VCALENDAR