BEGIN:VCALENDAR
VERSION:2.0
PRODID:-//Plone.org//NONSGML plone.app.event//EN
X-WR-TIMEZONE:Europe/Madrid
BEGIN:VEVENT
SUMMARY:Els Geganters visiten Barberà del Vallès
DTSTART;TZID=Europe/Madrid;VALUE=DATE-TIME:20110703T104500
DTEND;TZID=Europe/Madrid;VALUE=DATE-TIME:20110703T114500
DTSTAMP;VALUE=DATE-TIME:20260424T140735Z
UID:27c3a0d15ed9c953d34cecdc4027cd5d
CREATED;VALUE=DATE-TIME:20110703T000000Z
CATEGORIES:Festa,Agenda cultural
LOCATION:Barberà del Vallès
ORGANIZER:Colla de Geganters de Barberà del Vallès
URL:https://www.svmontalt.cat/document.php?id=5272
END:VEVENT
END:VCALENDAR