BEGIN:VCALENDAR
VERSION:2.0
PRODID:-//Plone.org//NONSGML plone.app.event//EN
X-WR-TIMEZONE:Europe/Madrid
BEGIN:VEVENT
SUMMARY:Sopar final de temporada del Bàsquet "3 Viles"
DTSTART;TZID=Europe/Madrid;VALUE=DATE-TIME:20110702T210000
DTEND;TZID=Europe/Madrid;VALUE=DATE-TIME:20110702T220000
DTSTAMP;VALUE=DATE-TIME:20260425T162807Z
UID:1999a1f128189fc2f2f2bb0a431de0bd
CREATED;VALUE=DATE-TIME:20110702T000000Z
CATEGORIES:Esports
LOCATION:Pista annexa al Pavelló Municipal Toni Sors - Avinguda Toni Sors, s/n
ORGANIZER:Bàsquet "3 Viles"
URL:https://www.svmontalt.cat/document.php?id=5292
END:VEVENT
END:VCALENDAR