BEGIN:VCALENDAR
VERSION:2.0
PRODID:-//Plone.org//NONSGML plone.app.event//EN
X-WR-TIMEZONE:Europe/Madrid
BEGIN:VEVENT
SUMMARY:Cloenda dels tallers "La cuina de Sant Vicenç"
DTSTART;TZID=Europe/Madrid;VALUE=DATE-TIME:20110708T180000
DTEND;TZID=Europe/Madrid;VALUE=DATE-TIME:20110708T190000
DTSTAMP;VALUE=DATE-TIME:20260419T164532Z
UID:6bc4ed1aa7823c68658c8424d47ed86d
CREATED;VALUE=DATE-TIME:20110708T000000Z
CATEGORIES:Mostra,Agenda cultural
LOCATION:Casal de la Gent Gran Els Xurravins - Riera del Gorg, s/n
ORGANIZER:Associació de Gent Gran Els Xurravins
COMMENT:Preu: Gratuït
DESCRIPTION:2a Setmana de la Gent Gran
URL:https://www.svmontalt.cat/document.php?id=5299
END:VEVENT
END:VCALENDAR