BEGIN:VCALENDAR
VERSION:2.0
PRODID:-//Plone.org//NONSGML plone.app.event//EN
X-WR-TIMEZONE:Europe/Madrid
BEGIN:VEVENT
SUMMARY:La Colla de Geganters visita Santa Susanna
DTSTART;TZID=Europe/Madrid;VALUE=DATE-TIME:20110813T180000
DTEND;TZID=Europe/Madrid;VALUE=DATE-TIME:20110813T190000
DTSTAMP;VALUE=DATE-TIME:20260424T150232Z
UID:ca3d2c9ef47d2edb4cbe34f397b77c83
CREATED;VALUE=DATE-TIME:20110813T000000Z
CATEGORIES:Festa,Agenda cultural
LOCATION:Santa Susanna (Maresme)
ORGANIZER:Colla de Geganters de Sant Vicenç de Montalt
URL:https://www.svmontalt.cat/document.php?id=5319
END:VEVENT
END:VCALENDAR