BEGIN:VCALENDAR
VERSION:2.0
PRODID:-//Plone.org//NONSGML plone.app.event//EN
X-WR-TIMEZONE:Europe/Madrid
BEGIN:VEVENT
SUMMARY:Teatre al carrer: "Uns Xurravins molt especials"
DTSTART;TZID=Europe/Madrid;VALUE=DATE-TIME:20110827T190000
DTEND;TZID=Europe/Madrid;VALUE=DATE-TIME:20110827T200000
DTSTAMP;VALUE=DATE-TIME:20260424T161654Z
UID:801bfc4de2ab2676838d0e431ec73436
CREATED;VALUE=DATE-TIME:20110827T000000Z
CATEGORIES:Festa,Música,Agenda cultural
LOCATION:Plaça del Poble - Plaça del Poble, s/n
ORGANIZER:Colla de Geganters de Sant Vicenç de Montalt
DESCRIPTION:Espectacle teatral amb música en viu
URL:https://www.svmontalt.cat/document.php?id=5320
END:VEVENT
END:VCALENDAR