BEGIN:VCALENDAR
VERSION:2.0
PRODID:-//Plone.org//NONSGML plone.app.event//EN
X-WR-TIMEZONE:Europe/Madrid
BEGIN:VEVENT
SUMMARY:Sortida Jove al "Water World" de Lloret
DTSTART;TZID=Europe/Madrid;VALUE=DATE-TIME:20110727T100000
DTEND;TZID=Europe/Madrid;VALUE=DATE-TIME:20110727T110000
DTSTAMP;VALUE=DATE-TIME:20260421T230317Z
UID:725af552c0555d96e5aeac9b7970e79c
CREATED;VALUE=DATE-TIME:20110727T000000Z
LOCATION:Water World" de Lloret
ORGANIZER:Regidoria de Joventut i Espai Jove "Elcau"
COMMENT:Preu: 20 euros
URL:https://www.svmontalt.cat/document.php?id=5324
END:VEVENT
END:VCALENDAR