BEGIN:VCALENDAR
VERSION:2.0
PRODID:-//Plone.org//NONSGML plone.app.event//EN
X-WR-TIMEZONE:Europe/Madrid
BEGIN:VEVENT
SUMMARY:Sortida de la Colla de Geganters a Dosrius
DTSTART;TZID=Europe/Madrid;VALUE=DATE-TIME:20110903T100000
DTEND;TZID=Europe/Madrid;VALUE=DATE-TIME:20110903T110000
DTSTAMP;VALUE=DATE-TIME:20260424T124848Z
UID:e95c2a86ce1df0191438a3283a5a9e65
CREATED;VALUE=DATE-TIME:20110903T000000Z
CATEGORIES:Festa,Agenda cultural
LOCATION:Sortida a Dosrius
ORGANIZER:Colla de Geganters de Sant Vicenç de Montalt
URL:https://www.svmontalt.cat/document.php?id=5371
END:VEVENT
END:VCALENDAR