BEGIN:VCALENDAR
VERSION:2.0
PRODID:-//Plone.org//NONSGML plone.app.event//EN
X-WR-TIMEZONE:Europe/Madrid
BEGIN:VEVENT
SUMMARY:Taller: "Ciuna sense pares"
DTSTART;TZID=Europe/Madrid;VALUE=DATE-TIME:20110907T180000
DTEND;TZID=Europe/Madrid;VALUE=DATE-TIME:20110907T190000
DTSTAMP;VALUE=DATE-TIME:20260420T023824Z
UID:687b0391aee5ee5027b5c303389371bf
CREATED;VALUE=DATE-TIME:20110907T000000Z
CATEGORIES:Cursos,Agenda cultural
LOCATION:Centre Cívic El Gorg - Riera del Gorg, s/n
ORGANIZER:Regidoria de Sanitat, Salut Pública i Consum amb la col·laboració de la Diputació de Barcelona
COMMENT:Preu: Gratuït
DESCRIPTION:Adreçat a joves a partir de 14 anys
URL:https://www.svmontalt.cat/document.php?id=5374
END:VEVENT
END:VCALENDAR