BEGIN:VCALENDAR
VERSION:2.0
PRODID:-//Plone.org//NONSGML plone.app.event//EN
X-WR-TIMEZONE:Europe/Madrid
BEGIN:VEVENT
SUMMARY:Conferència: "Per raons econòmiques, per l'Estat propi"
DTSTART;TZID=Europe/Madrid;VALUE=DATE-TIME:20110909T200000
DTEND;TZID=Europe/Madrid;VALUE=DATE-TIME:20110909T210000
DTSTAMP;VALUE=DATE-TIME:20260424T183700Z
UID:344f69305b2c33174d409690d8186f98
CREATED;VALUE=DATE-TIME:20110909T000000Z
CATEGORIES:Conferència,Agenda cultural
LOCATION:Centre Cívic El Gorg - Riera del Gorg, s/n
ORGANIZER:Sant Vicenç Decideix
COMMENT:Preu: Gratuït
URL:https://www.svmontalt.cat/document.php?id=5375
END:VEVENT
END:VCALENDAR