BEGIN:VCALENDAR
VERSION:2.0
PRODID:-//Plone.org//NONSGML plone.app.event//EN
X-WR-TIMEZONE:Europe/Madrid
BEGIN:VEVENT
SUMMARY:Sortida de la Colla de Geganters a Taradell
DTSTART;TZID=Europe/Madrid;VALUE=DATE-TIME:20110925T100000
DTEND;TZID=Europe/Madrid;VALUE=DATE-TIME:20110925T110000
DTSTAMP;VALUE=DATE-TIME:20260424T150534Z
UID:2702cd926916ded4b85ea1c7be23c48f
CREATED;VALUE=DATE-TIME:20110925T000000Z
CATEGORIES:Festa,Agenda cultural
LOCATION:Sortida a Taradell
ORGANIZER:Colla de Geganters de Sant Vicenç de Montalt
URL:https://www.svmontalt.cat/document.php?id=5388
END:VEVENT
END:VCALENDAR