BEGIN:VCALENDAR
VERSION:2.0
PRODID:-//Plone.org//NONSGML plone.app.event//EN
X-WR-TIMEZONE:Europe/Madrid
BEGIN:VEVENT
SUMMARY:Diumenge, vine a ballar al Cívic!
DTSTART;TZID=Europe/Madrid;VALUE=DATE-TIME:20110925T180000
DTEND;TZID=Europe/Madrid;VALUE=DATE-TIME:20110925T190000
DTSTAMP;VALUE=DATE-TIME:20260425T174830Z
UID:072180e0fe54ca6cff15af9799fc7bca
CREATED;VALUE=DATE-TIME:20110925T000000Z
CATEGORIES:Dansa,Agenda cultural
LOCATION:Centre Cívic El Gorg - Riera del Gorg, s/n 08394 Sant Vicenç de Montalt
ORGANIZER:Regidoria de Cultura
URL:https://www.svmontalt.cat/document.php?id=5392
END:VEVENT
END:VCALENDAR