BEGIN:VCALENDAR
VERSION:2.0
PRODID:-//Plone.org//NONSGML plone.app.event//EN
X-WR-TIMEZONE:Europe/Madrid
BEGIN:VEVENT
SUMMARY:XXVII Copa Sant Vicenç de Montalt de futbol
DTSTART;TZID=Europe/Madrid;VALUE=DATE-TIME:20111012T100000
DTEND;TZID=Europe/Madrid;VALUE=DATE-TIME:20111012T110000
DTSTAMP;VALUE=DATE-TIME:20260424T091826Z
UID:429e9a441b8c6e56d95bdb00b0accbf2
CREATED;VALUE=DATE-TIME:20111012T000000Z
CATEGORIES:Esports
LOCATION:Camp Municipal de Futbol - Avinguda Toni Sors, s/n
ORGANIZER:Komm Mit amb la col·laboració de la Regidoria d'Esports
COMMENT:Durada: Del 9 al 12 d'octubre
DESCRIPTION:Del 9 al 12 d'octubre
URL:https://www.svmontalt.cat/document.php?id=5417
END:VEVENT
END:VCALENDAR