BEGIN:VCALENDAR
VERSION:2.0
PRODID:-//Plone.org//NONSGML plone.app.event//EN
X-WR-TIMEZONE:Europe/Madrid
BEGIN:VEVENT
SUMMARY:Sortida de la Colla de Geganters a Argelers de la Marenda (Catalunya Nord)
DTSTART;TZID=Europe/Madrid;VALUE=DATE-TIME:20111002T000000
DTEND;TZID=Europe/Madrid;VALUE=DATE-TIME:20111002T010000
DTSTAMP;VALUE=DATE-TIME:20260424T135927Z
UID:9becec2481665d99441f202633143342
CREATED;VALUE=DATE-TIME:20111002T000000Z
CATEGORIES:Festa,Agenda cultural
LOCATION:Sortida a Argelers de la Marenda
ORGANIZER:Colla de Geganters de Sant Vicenç de Montalt
URL:https://www.svmontalt.cat/document.php?id=5426
END:VEVENT
END:VCALENDAR