BEGIN:VCALENDAR
VERSION:2.0
PRODID:-//Plone.org//NONSGML plone.app.event//EN
X-WR-TIMEZONE:Europe/Madrid
BEGIN:VEVENT
SUMMARY:Grans lectors
DTSTART;TZID=Europe/Madrid;VALUE=DATE-TIME:20111025T200000
DTEND;TZID=Europe/Madrid;VALUE=DATE-TIME:20111025T210000
DTSTAMP;VALUE=DATE-TIME:20260424T010533Z
UID:6970f1d0642243a323deef95143c8a3f
CREATED;VALUE=DATE-TIME:20111025T000000Z
CATEGORIES:Literatura,Agenda cultural
LOCATION:Casal de la Gent Gran Els Xurravins - Riera del Gorg, s/n
ORGANIZER:Associaciació de Gent Gran Els Xurranis amb el suport de Fundació "la Caixa"
COMMENT:Preu: Gratuït
DESCRIPTION:Tertúlia literària conduïda per Sílvia Sánchez
URL:https://www.svmontalt.cat/document.php?id=5444
END:VEVENT
END:VCALENDAR