BEGIN:VCALENDAR
VERSION:2.0
PRODID:-//Plone.org//NONSGML plone.app.event//EN
X-WR-TIMEZONE:Europe/Madrid
BEGIN:VEVENT
SUMMARY:Los reyes de la calle
DTSTART;TZID=Europe/Madrid;VALUE=DATE-TIME:20111026T183000
DTEND;TZID=Europe/Madrid;VALUE=DATE-TIME:20111026T193000
DTSTAMP;VALUE=DATE-TIME:20260422T064456Z
UID:4f99d56366f7947a0ba086143f0e6176
CREATED;VALUE=DATE-TIME:20111026T000000Z
CATEGORIES:Dansa,Agenda cultural
LOCATION:Espai Jove - Avinguda Verge de Montserrat, 1
ORGANIZER:Regidoria de Joventut i Espai Jove "El Cau"
DESCRIPTION:Classes d'Street Dance, Hip Hop, Popping&Locking
URL:https://www.svmontalt.cat/document.php?id=5447
END:VEVENT
END:VCALENDAR