BEGIN:VCALENDAR
VERSION:2.0
PRODID:-//Plone.org//NONSGML plone.app.event//EN
X-WR-TIMEZONE:Europe/Madrid
BEGIN:VEVENT
SUMMARY:De Tamariu a la Fosca pel Camí de Ronda GR 92
DTSTART;TZID=Europe/Madrid;VALUE=DATE-TIME:20111016T080000
DTEND;TZID=Europe/Madrid;VALUE=DATE-TIME:20111016T090000
DTSTAMP;VALUE=DATE-TIME:20260424T080022Z
UID:1625e742631f1dd75834a174dd63bc47
CREATED;VALUE=DATE-TIME:20111016T000000Z
CATEGORIES:Esports
LOCATION:Pàrquing del carrer Ginesta - Carrer Ginesta, s/n
ORGANIZER:Associació Excursionista MontalTrek
DESCRIPTION:Costa Brava
URL:https://www.svmontalt.cat/document.php?id=5455
END:VEVENT
END:VCALENDAR